BEGIN:VCALENDAR
VERSION:2.0
PRODID:icalendar-ruby
CALSCALE:GREGORIAN
METHOD:PUBLISH
BEGIN:VEVENT
DTSTAMP:20260420T165828Z
UID:73-447903@redarrowministries.org
DTSTART;VALUE=DATE:20260725
DTEND;VALUE=DATE:20260725
CLASS:PUBLIC
CREATED:20260418T180534
DESCRIPTION:Using Fancis Chan's Bible Study of Job\, Jahred Ellis will lead
  a 8-Week Bible Study Saturday Mornings at 9:00 AM. \n\nMark your calenda
 rs to join the men of RedArrow:  Saturdays May 9\, 16\, 23\, 30\,  July 
 18\, 25\, August 1 &amp\; 8.\n\nQuestions?  Contact Jahred Ellis (jahred.
 c.ellis2@gmail.com)\n
LAST-MODIFIED:20260418T180534
LOCATION:31133 Red Arrow HwyPaw Paw\, MI 49079
SUMMARY:Men's Bible Study
URL;VALUE=URI:https://www.redarrowministries.org/events/mens-bible-study/20
 26-07-25
ATTACH;FILENAME=Job-Francis-Chan.png;FMTTYPE=image/png:https://dq5pwpg1q8ru
 0.cloudfront.net/2026/04/17/18/48/06/61dd1397-5cf6-4a74-80fb-384541306385/
 Job-Francis-Chan.png
END:VEVENT
END:VCALENDAR
